BEGIN:VCALENDAR
VERSION:2.0
PRODID:-//ChamberMaster//Event Calendar 2.0//EN
METHOD:PUBLISH
X-PUBLISHED-TTL:P3D
REFRESH-INTERVAL:P3D
CALSCALE:GREGORIAN
BEGIN:VEVENT
DTSTART:20210923T130000Z
DTEND:20210923T180000Z
X-MICROSOFT-CDO-ALLDAYEVENT:FALSE
SUMMARY:Krewe Babalu Golf Tournament
DESCRIPTION:Krewe Babalu Annual Golf Tournament\n\nBenefiting A Pawsitive Approach Dog Training
X-ALT-DESC;FMTTYPE=text/html:Krewe Babalu Annual Golf Tournament<br />\nBenefiting A Pawsitive Approach Dog Training<br />\n&nbsp\;
LOCATION:Bayou Golf Course 28 Ted Dudley Dr Texas City\, Tx 77591
UID:e.2983.4118
SEQUENCE:3
DTSTAMP:20260421T220253Z
URL:https://business.tclmchamber.com/events/details/krewe-babalu-golf-tournament-4118
END:VEVENT

END:VCALENDAR
