BEGIN:VCALENDAR
VERSION:2.0
PRODID:-//ChamberMaster//Event Calendar 2.0//EN
METHOD:PUBLISH
X-PUBLISHED-TTL:P3D
REFRESH-INTERVAL:P3D
CALSCALE:GREGORIAN
BEGIN:VEVENT
DTSTART:20180424T160000Z
DTEND:20180424T230000Z
X-MICROSOFT-CDO-ALLDAYEVENT:FALSE
SUMMARY:Industrial Trade Show
DESCRIPTION:We all know that the petrochemical industry is the heart and soul of Texas City and La Marque. It defines what we do and where we live in our communities. Many times we take for granted the magnitude of the importance that industry plays in the life of our city and those who live\, work and play here. The number of direct jobs to major industry is in the thousands\, but that number does not reflect the many more thousands of indirect jobs that are functioning as a result of our industry partners' location.\n\nThis event is focused on making the right connections for those ancillary businesses. Meeting a new contact or reconnecting with a current client is what this day is all about. Small businesses contribute to local economies by bringing growth and innovation. Small businesses also help stimulate economic growth by providing employment opportunities to people who may not be employable by larger corporations. Larger businesses also often benefit from small businesses within the same local community for the completion of various business functions through outsourcing.\n\nThis show\, as is evident by the event title\, is an industrial exhibit   not for everyone\, but for those folks who are industrially geared it is huge. Let's support and promote commerce in our community and get down to doing business!
X-ALT-DESC;FMTTYPE=text/html:<p style="margin: 0px 0px 1em\; color: rgb(65\, 65\, 65)\; font-family: &quot\;Segoe UI&quot\;\, Arial\, Helvetica\, sans-serif\; font-size: 16px\; background-color: rgb(255\, 255\, 255)\;">We all know that the petrochemical industry is the heart and soul of Texas City and La Marque. It defines what we do and where we live in our communities. Many times we take for granted the magnitude of the importance that industry plays in the life of our city and those who live\, work and play here. The number of direct jobs to major industry is in the thousands\, but that number does not reflect the many more thousands of indirect jobs that are functioning as a result of our industry partners&rsquo\; location.</p>\n\n<p style="margin: 0px 0px 1em\; color: rgb(65\, 65\, 65)\; font-family: &quot\;Segoe UI&quot\;\, Arial\, Helvetica\, sans-serif\; font-size: 16px\; background-color: rgb(255\, 255\, 255)\;">This event is focuse<span class="text_exposed_show" style="margin: 0px\;">d on making the right connections for those ancillary businesses. Meeting a new contact or reconnecting with a current client is what this day is all about. Small businesses contribute to local economies by bringing growth and innovation. Small businesses also help stimulate economic growth by providing employment opportunities to people who may not be employable by larger corporations. Larger businesses also often benefit from small businesses within the same local community for the completion of various business functions through outsourcing.</span></p>\n\n<p style="margin: 0px 0px 1em\; color: rgb(65\, 65\, 65)\; font-family: &quot\;Segoe UI&quot\;\, Arial\, Helvetica\, sans-serif\; font-size: 16px\; background-color: rgb(255\, 255\, 255)\;">This show\, as is evident by the event title\, is an industrial exhibit &ndash\; not for everyone\, but for those folks who are industrially geared it is huge. Let&rsquo\;s support and promote commerce in our community and get down to doing business!</p>\n
LOCATION:Doyle Convention Center 2010 5th Ave N Texas City\, TX 77590
UID:e.2983.3339
SEQUENCE:3
DTSTAMP:20260424T055857Z
URL:https://business.tclmchamber.com/events/details/industrial-trade-show-3339
END:VEVENT

END:VCALENDAR
