BEGIN:VCALENDAR
VERSION:2.0
PRODID:-//ChamberMaster//Event Calendar 2.0//EN
METHOD:PUBLISH
X-PUBLISHED-TTL:P3D
REFRESH-INTERVAL:P3D
CALSCALE:GREGORIAN
BEGIN:VEVENT
DTSTART;VALUE=DATE:20210727
DTEND;VALUE=DATE:20210728
TRANSP:TRANSPARENT
X-MICROSOFT-CDO-ALLDAYEVENT:TRUE
SUMMARY:Industrial Trade Show 2021
DESCRIPTION:The petrochemical industry is the heart and soul of Texas City and La Marque. It defines what we do and where we live. The number of direct jobs in major industry is in the thousands\, but there are many more thousands of indirect jobs that exist here as a result of our local industrial partners.\n\n\n\nCo-sponsored by the City of Texas City - Economic Development Corporation\, Marathon Petroleum and the Texas City-La Marque Chamber of Commerce\, this Trade Show is focused on making connections. Meeting new contacts and reconnecting with clients is what this day is all about. \n\n\n\nTickets to the Trade Show are complimentary for company representatives who want to do business with others in the Texas City-La Marque industrial sector.  Tickets are available at the entrance to the Trade Show\, inside the Doyle Convention Center.\n\nThe Chamber is proud to support and promote commerce in the Texas City-La Marque community!
X-ALT-DESC;FMTTYPE=text/html:<p -webkit-text-stroke-width:="" font-size:="" font-style:="" font-variant:="" font-weight:="" letter-spacing:="" margin-bottom:="" margin-left:="" margin-right:="" margin-top:="" orphans:="" style="box-sizing: border-box\; color: rgb(34\, 34\, 34)\; font-family: " text-align:="" text-decoration:="" text-indent:="" text-transform:="" white-space:="" word-spacing:=""><span style="font-size:14px\;">The petrochemical industry is the heart and soul of Texas City and La Marque. It defines what we do and where we live. The number of direct jobs in major industry is in the thousands\, but there are many more thousands of indirect jobs that exist here as a result of our local industrial partners.<br />\n<br />\nC</span><span style="font-size:14px\;">o-sponsored by the City of Texas City - Economic Development Corporation\, Marathon Petroleum and the Texas City-La Marque Chamber of Commerce\, this Trade Show is focuse</span><span class="text_exposed_show" style="box-sizing: border-box\;"><span style="font-size:14px\;">d on making connections. Meeting new contacts and&nbsp\;reconnecting with clients is what this day is all about.&nbsp\;</span></span><br />\n<br />\n<span style="font-size:14px\;"><span style="color: rgb(34\, 34\, 34)\; font-family: Raleway\, sans-serif\; background-color: rgb(255\, 255\, 255)\;">Tickets to the Trade Show are complimentary for company representatives who want to do business with others in the Texas City-La Marque industrial sector.&nbsp\; Tickets are available at the entrance to the Trade Show\, inside the Doyle Convention Center.</span></span></p>\n\n<p -webkit-text-stroke-width:="" font-size:="" font-style:="" font-variant:="" font-weight:="" letter-spacing:="" margin-bottom:="" margin-left:="" margin-right:="" margin-top:="" orphans:="" style="box-sizing: border-box\; color: rgb(34\, 34\, 34)\; font-family: " text-align:="" text-decoration:="" text-indent:="" text-transform:="" white-space:="" word-spacing:=""><span style="font-size:14px\;">The Chamber is proud to support and promote commerce in the Texas City-La Marque&nbsp\;community!</span></p>\n
LOCATION:Doyle Convention Center 2010 5th Avenue N. Texas City\, Texas 77590
UID:e.2983.3910
SEQUENCE:3
DTSTAMP:20260422T005505Z
URL:https://business.tclmchamber.com/events/details/industrial-trade-show-2021-3910
END:VEVENT

END:VCALENDAR
