BEGIN:VCALENDAR
VERSION:2.0
PRODID:-//ChamberMaster//Event Calendar 2.0//EN
METHOD:PUBLISH
X-PUBLISHED-TTL:P3D
REFRESH-INTERVAL:P3D
CALSCALE:GREGORIAN
BEGIN:VEVENT
DTSTART:20180627T163000Z
DTEND:20180627T180000Z
X-MICROSOFT-CDO-ALLDAYEVENT:FALSE
SUMMARY:Hurricane Luncheon
DESCRIPTION:Join us for the Hurricane Preparedness Luncheon.  Frank Billingsley\, everyone's favorite weather man from KPRC Channel 2\, is the keynote speaker.
X-ALT-DESC;FMTTYPE=text/html:Join us for the Hurricane Preparedness Luncheon.&nbsp\; Frank Billingsley\, everyone&#39\;s favorite weather man from KPRC Channel 2\, is the keynote speaker.&nbsp\;&nbsp\;<br />\n<br />\n&nbsp\;
LOCATION:Doyle Convention Center 2010 5th Avenue N. Texas City\, Texas 77590
UID:e.2983.3347
SEQUENCE:3
DTSTAMP:20260424T032305Z
URL:https://business.tclmchamber.com/events/details/hurricane-luncheon-3347
END:VEVENT

END:VCALENDAR
