BEGIN:VCALENDAR
VERSION:2.0
PRODID:-//ChamberMaster//Event Calendar 2.0//EN
METHOD:PUBLISH
X-PUBLISHED-TTL:P3D
REFRESH-INTERVAL:P3D
CALSCALE:GREGORIAN
BEGIN:VEVENT
DTSTART:20220525T150000Z
DTEND:20220525T160000Z
X-MICROSOFT-CDO-ALLDAYEVENT:FALSE
SUMMARY:Groundbreaking Ceremony - Frost Bank
DESCRIPTION:Groundbreaking Ceremony is at 10:00 a.m.
X-ALT-DESC;FMTTYPE=text/html:Groundbreaking Ceremony is at 10:00 a.m.
LOCATION:2831 Palmer Hwy Texas City\, TX 77590
UID:e.2983.4225
SEQUENCE:3
DTSTAMP:20260421T124200Z
URL:https://business.tclmchamber.com/events/details/groundbreaking-ceremony-frost-bank-4225
END:VEVENT

END:VCALENDAR
