BEGIN:VCALENDAR
VERSION:2.0
PRODID:-//ChamberMaster//Event Calendar 2.0//EN
METHOD:PUBLISH
X-PUBLISHED-TTL:P3D
REFRESH-INTERVAL:P3D
CALSCALE:GREGORIAN
BEGIN:VEVENT
DTSTART:20211109T230000Z
DTEND:20211110T003000Z
X-MICROSOFT-CDO-ALLDAYEVENT:FALSE
SUMMARY:Greece Trip 2022 - Informational Meeting
DESCRIPTION:Travel with the Chamber to Greece in 2022!\n\n\n\nAttend this free reception to hear all of the details about the trip planned for Nov. 4-12\, 2022 from our host company\, Aventura World\, and view a slide show at the Chamber.\n\n\n\nPlease REGISTER using the button on this page to make sure a seat is reserved for YOU!\n\n\n\nYou can view the details online now at this link!  CLICK HERE
X-ALT-DESC;FMTTYPE=text/html:Travel with the Chamber to Greece in 2022!<br />\n<br />\nAttend this free reception to hear all of the details about the trip planned for Nov. 4-12\, 2022 from our host company\, Aventura World\, and view a slide show at the Chamber.<br />\n<br />\nPlease REGISTER using the button on this page to make sure a seat is reserved for YOU!<br />\n<br />\nYou can view the details online now at this link!&nbsp\; <a href="https://files.ctctusercontent.com/7b67aef2101/49b639f2-9c21-4628-83bc-4e251c598037.pdf?rdr=true" target="_blank">CLICK HERE</a>
LOCATION:9702 E.F. Lowry Expressway Texas City TX 77591
UID:e.2983.4128
SEQUENCE:3
DTSTAMP:20260421T193345Z
URL:https://business.tclmchamber.com/events/details/greece-trip-2022-informational-meeting-4128
END:VEVENT

END:VCALENDAR
