BEGIN:VCALENDAR
VERSION:2.0
PRODID:-//ChamberMaster//Event Calendar 2.0//EN
METHOD:PUBLISH
X-PUBLISHED-TTL:P3D
REFRESH-INTERVAL:P3D
CALSCALE:GREGORIAN
BEGIN:VEVENT
DTSTART;VALUE=DATE:20181114
DTEND;VALUE=DATE:20181116
TRANSP:TRANSPARENT
X-MICROSOFT-CDO-ALLDAYEVENT:TRUE
SUMMARY:Golf Classic
DESCRIPTION:ATTENTION ALL GOLFERS IN THE CHAMBER GOLF CLASSIC!\n\nDue to the extreme amount of rain we have had\, \n\nwe are re-scheduling the Chamber Golf Classic to:\n\nWednesday\, November 14 \n\nThursday\, November 15\n\n  \n\nIf you have any questions\, contact:\n\nderek@texascitychamber.com\n\n \n\nor phone: 409-935-1408\n\nThis 2 day event hosts 576 golfers\, 30 hospitality tents\, and over 100 volunteers to create a networking and social atmosphere for participants. This is the Chamber's largest fundraiser and enables the Chamber to continue its many valuable programs. Flights fill up rapidly in this golf tournament\, which has been described as the biggest and best golf tournament in all of southeast Texas. Meet\, greet and socialize with Chamber members\, plant managers\, business associates\, and guests?.all in a relaxed setting. You really don?t want to miss this event!
X-ALT-DESC;FMTTYPE=text/html:<strong><span style="color:#BF3F2F\;"><span style="font-family:tahoma\,sans-serif\;"><span style="font-size:27.0pt\;">ATTENTION ALL GOLFERS IN THE CHAMBER GOLF CLASSIC!</span></span></span></strong><br />\n<strong><span style="color:#36495F\;"><span style="font-family:tahoma\,sans-serif\;"><span style="font-size:16.5pt\;">Due to the extreme amount of rain we have had\, </span></span></span></strong><br />\n<strong><span style="color:#36495F\;"><span style="font-family:tahoma\,sans-serif\;"><span style="font-size:16.5pt\;">we are re-scheduling the Chamber Golf Classic to:</span></span></span></strong><br />\n<strong><span style="color:#36495F\;"><span style="font-family:tahoma\,sans-serif\;"><span style="font-size:27.0pt\;">Wednesday\, November 14&nbsp\;</span></span></span></strong><br />\n<strong><span style="color:#36495F\;"><span style="font-family:tahoma\,sans-serif\;"><span style="font-size:27.0pt\;">Thursday\, November 15</span></span></span></strong><br />\n&nbsp\;&nbsp\;<br />\n<strong><span style="font-family:arial\,sans-serif\;"><span style="font-size:21pt\;">If you have any questions\, contact:</span></span></strong><br />\n<span style="color:#36495F\;"><span style="font-family:arial\,sans-serif\;"><span style="font-size:10.5pt\;"><a href="mailto:derek@texascitychamber.com" target="_blank"><strong><span style="color:black\;"><span style="font-size:21.0pt\;">derek@texascitychamber.com</span></span></strong></a></span></span></span><br />\n&nbsp\;<br />\n<strong><span style="font-family:arial\,sans-serif\;"><span style="font-size:21pt\;">or phone: 409-935-1408</span></span></strong><br />\n<span style="color: rgb(65\, 65\, 65)\; font-family: &quot\;Segoe UI&quot\;\, Arial\, Helvetica\, sans-serif\; font-size: 16px\; background-color: rgb(255\, 255\, 255)\;">This 2 day event hosts 576 golfers\, 30 hospitality tents\, and over 100 volunteers to create a networking and social atmosphere for participants. This is the Chamber&#39\;s largest fundraiser and enables the Chamber to continue its many valuable programs. Flights fill up rapidly in this golf tournament\, which has been described as the biggest and best golf tournament in all of southeast Texas. Meet\, greet and socialize with Chamber members\, plant managers\, business associates\, and guests?.all in a relaxed setting. You really don?t want to miss this event!</span>
LOCATION:Bayou Golf Course 2800 Ted Dudley Dr Texas City\, TX 77590
UID:e.2983.2316
SEQUENCE:3
DTSTAMP:20260423T203638Z
URL:https://business.tclmchamber.com/events/details/golf-classic-10-03-2018-2316
END:VEVENT

END:VCALENDAR
