BEGIN:VCALENDAR
VERSION:2.0
PRODID:-//ChamberMaster//Event Calendar 2.0//EN
METHOD:PUBLISH
X-PUBLISHED-TTL:P3D
REFRESH-INTERVAL:P3D
CALSCALE:GREGORIAN
BEGIN:VEVENT
DTSTART:20190212T213000Z
DTEND:20190213T003000Z
X-MICROSOFT-CDO-ALLDAYEVENT:FALSE
SUMMARY:Galveston County Food Bank Ribbon Cutting
DESCRIPTION:The Galveston County Food Bank is thrilled to announce the opening of their second building.  \n\n213 6th Street N.\n\nTexas City\, Texas  77590
X-ALT-DESC;FMTTYPE=text/html:The Galveston County Food Bank is thrilled to announce the opening of their second building.&nbsp\;&nbsp\;<br />\n213 6th Street N.<br />\nTexas City\, Texas&nbsp\; 77590
LOCATION:one block south of their present office on 4th Street N.\, Texas City\, Texas.
UID:e.2983.3616
SEQUENCE:3
DTSTAMP:20260423T155655Z
URL:https://business.tclmchamber.com/events/details/galveston-county-food-bank-ribbon-cutting-3616
END:VEVENT

END:VCALENDAR
