BEGIN:VCALENDAR
VERSION:2.0
PRODID:-//ChamberMaster//Event Calendar 2.0//EN
METHOD:PUBLISH
X-PUBLISHED-TTL:P3D
REFRESH-INTERVAL:P3D
CALSCALE:GREGORIAN
BEGIN:VEVENT
DTSTART:20220413T210000Z
DTEND:20220413T223000Z
X-MICROSOFT-CDO-ALLDAYEVENT:FALSE
SUMMARY:FREE Exhibitor Orientation Event
DESCRIPTION:Learn how to set up a great-looking display and grow your business!\n\n\n\n"FIRST LOOK" Orientation Event - for the BUSINESS SHOWCASE on May 19\n\n\n\nSponsored by Associated Credit Union of Texas\n\n\n\nAttend this casual\, informative event and watch a free demonstration of how to set up a business display at an expo/trade show.  Cathie Woitena of ACU of Texas will lead this orientation for exhibitors signed up for the May 19 Business Showcase event\, but all are welcome.  Learn expert tips for how to decorate\, how to capture names and gather valuable SALES LEADS\, and what to do AFTER the event to maximize your success.\n\n\n\nThis will be hosted at Mainland City Centre starting at 4:00 pm on Wednesday\, April 13. \n\n\n\nContact the Chamber with any questions.  Hope to see you there!
X-ALT-DESC;FMTTYPE=text/html:Learn how to set up a great-looking display and grow your business!<br />\n<br />\n<span style="font-size:18px\;"><strong>&quot\;FIRST LOOK&quot\; Orientation Event </strong>- for the BUSINESS SHOWCASE on May 19</span><br />\n<br />\n<em><strong>Sponsored by Associated Credit Union of Texas</strong></em><br />\n<br />\nAttend this casual\, informative event and watch a free demonstration of how to set up a business display at an expo/trade show.&nbsp\; Cathie Woitena of ACU of Texas will lead this orientation for exhibitors signed up for the May 19 Business Showcase event\, but all are welcome.&nbsp\; Learn expert tips for how to decorate\, how to capture names and gather valuable SALES LEADS\, and what to do AFTER the event to maximize your success.<br />\n<br />\nThis will be hosted at Mainland City Centre starting at 4:00 pm on Wednesday\, April 13.&nbsp\;<br />\n<br />\nContact the Chamber with any questions.&nbsp\; Hope to see you there!
LOCATION:Mainland City Centre 10000 E.F. Lowry Expressway\, Texas City 77591 (Use the entrance near the fountain\, next to Grazia Restaurant)
UID:e.2983.4219
SEQUENCE:3
DTSTAMP:20260421T124020Z
URL:https://business.tclmchamber.com/events/details/free-exhibitor-orientation-event-4219
END:VEVENT

END:VCALENDAR
