BEGIN:VCALENDAR
VERSION:2.0
PRODID:-//ChamberMaster//Event Calendar 2.0//EN
METHOD:PUBLISH
X-PUBLISHED-TTL:P3D
REFRESH-INTERVAL:P3D
CALSCALE:GREGORIAN
BEGIN:VEVENT
DTSTART:20200806T170000Z
DTEND:20200806T180000Z
X-MICROSOFT-CDO-ALLDAYEVENT:FALSE
SUMMARY:"Employer Actions in a Pandemic Climate" Webinar Presented by Littler Mendelson\, P.C.
DESCRIPTION:In this webinar\, labor and employment attorneys\, Allison Williams and Ashley Thomas  of the law firm Littler Mendelson\, P.C. will provide an overview of key employment law considerations triggered by COVID-19 and insight and guidance on reopening your business and practical considerations to align with Texas guidelines\, employee      safety\, and wage and hour practices.  In addition\, Littler will review proactive planning strategies to safeguard your business."
X-ALT-DESC;FMTTYPE=text/html:<span style="font-weight:bold\;language:en-US\;"><span style="font-family:century gothic\;"><span style="font-size:14.0pt\;">In this webinar\, labor and employment attorneys\, Allison Williams and Ashley Thomas&nbsp\; of the law firm Littler Mendelson\, P.C. will provide an overview of key employment law considerations triggered by COVID-19 and insight and guidance on reopening your business and practical considerations to align with Texas guidelines\, employee&nbsp\;&nbsp\;&nbsp\;&nbsp\;&nbsp\; safety\, and wage and hour practices. &nbsp\;In addition\, Littler will review proactive planning strategies to safeguard your business.&rdquo\;</span></span></span><br />\n&nbsp\;
LOCATION:This webinar will be virtual through Zoom. Meeting link will be provided after you have registered for the event.
UID:e.2983.4012
SEQUENCE:3
DTSTAMP:20260422T152809Z
URL:https://business.tclmchamber.com/events/details/employer-actions-in-a-pandemic-climate-webinar-presented-by-littler-mendelson-p-c-4012
END:VEVENT

END:VCALENDAR
