BEGIN:VCALENDAR
VERSION:2.0
PRODID:-//ChamberMaster//Event Calendar 2.0//EN
METHOD:PUBLISH
X-PUBLISHED-TTL:P3D
REFRESH-INTERVAL:P3D
CALSCALE:GREGORIAN
BEGIN:VEVENT
DTSTART:20220423T200000Z
DTEND:20220424T010000Z
X-MICROSOFT-CDO-ALLDAYEVENT:FALSE
SUMMARY:Crawfish Boil and Parking Lot Party Fundraiser benefitting Texas EquuSearch
DESCRIPTION:Join in on April 23 at Classic Galveston for a benefit Crawfish Boil and Parking Lot Party!  This family friendly event will feature crawfish\, live music from The Line Up\, silent and live auction items\, and a dance party led by local dance fitness instructors.  The last event was two years ago and all are excited to "get boiling" again!\n\n\n\nSeeking sponsors and auction item donors.  Inquire for more details!
X-ALT-DESC;FMTTYPE=text/html:Join in on April 23 at Classic Galveston for a benefit Crawfish Boil and Parking Lot Party!&nbsp\; This family friendly event will feature crawfish\, live music from The Line Up\, silent and live auction items\, and a dance party led by local dance fitness instructors.&nbsp\; The last event was two years ago and all are excited to &quot\;get boiling&quot\; again!<br />\n<br />\nSeeking sponsors and auction item donors.&nbsp\; Inquire for more details!
LOCATION:Classic Auto Group Galveston 8020 Broadway Galveston\, Texas. 77554
UID:e.2983.4203
SEQUENCE:3
DTSTAMP:20260421T140027Z
URL:https://business.tclmchamber.com/events/details/crawfish-boil-and-parking-lot-party-fundraiser-benefitting-texas-equusearch-4203
END:VEVENT

END:VCALENDAR
