BEGIN:VCALENDAR
VERSION:2.0
PRODID:-//ChamberMaster//Event Calendar 2.0//EN
METHOD:PUBLISH
X-PUBLISHED-TTL:P3D
REFRESH-INTERVAL:P3D
CALSCALE:GREGORIAN
BEGIN:VEVENT
DTSTART:20200824T130000Z
DTEND:20200824T140000Z
X-MICROSOFT-CDO-ALLDAYEVENT:FALSE
SUMMARY:Coffee Talk - Welcome New Members 2020
DESCRIPTION:Welcome new chamber members and representatives! We will discuss the key topics:\n\n	Chamber Basics: What a chamber does and how it can help businesses\n	Engagement: The benefits of chamber membership\n	tutorials on the member portal\n\nWe will have limited in-person seating at the Chamber\, or you may choose to attend this event virtually through Zoom
X-ALT-DESC;FMTTYPE=text/html:Welcome new chamber members and representatives! We will discuss the key topics:\n<ul>\n	<li>Chamber Basics: What a chamber does and how it can help businesses</li>\n	<li>Engagement: The benefits of chamber membership</li>\n	<li>tutorials on the member portal</li>\n</ul>\n<span style="display: inline !important\; float: none\; background-color: rgb(255\, 255\, 255)\; color: rgb(51\, 51\, 51)\; cursor: text\; font-family: sans-serif\,Arial\,Verdana\,&quot\;Trebuchet MS&quot\;\; font-size: 13px\; font-style: normal\; font-variant: normal\; font-weight: 400\; letter-spacing: normal\; line-height: 1.6\; orphans: 2\; text-align: left\; text-decoration: none\; text-indent: 0px\; text-transform: none\; -webkit-text-stroke-width: 0px\; white-space: normal\; word-spacing: 0px\;">We will have limited in-person seating at the Chamber\, or you may choose to attend this event virtually through Zoom</span><br />\n&nbsp\;
LOCATION:In person: Texas City-La Marque Chamber of Commerce 9702 E.F. Lowry Expressway Texas City\, Texas 77591 Or virtually through Zoom
UID:e.2983.4014
SEQUENCE:3
DTSTAMP:20260422T151340Z
URL:https://business.tclmchamber.com/events/details/coffee-talk-welcome-new-members-2020-4014
END:VEVENT

END:VCALENDAR
