BEGIN:VCALENDAR
VERSION:2.0
PRODID:-//ChamberMaster//Event Calendar 2.0//EN
METHOD:PUBLISH
X-PUBLISHED-TTL:P3D
REFRESH-INTERVAL:P3D
CALSCALE:GREGORIAN
BEGIN:VEVENT
DTSTART:20191210T230000Z
DTEND:20191211T010000Z
X-MICROSOFT-CDO-ALLDAYEVENT:FALSE
SUMMARY:Christmas Open House 2019
DESCRIPTION:Christmas Open House
X-ALT-DESC;FMTTYPE=text/html:Christmas Open House
LOCATION:9702 E.F. Lowry Expressway Texas City\, Texas 77591
UID:e.2983.3601
SEQUENCE:3
DTSTAMP:20260423T022732Z
URL:https://business.tclmchamber.com/events/details/christmas-open-house-2019-3601
END:VEVENT

END:VCALENDAR
