BEGIN:VCALENDAR
VERSION:2.0
PRODID:-//ChamberMaster//Event Calendar 2.0//EN
METHOD:PUBLISH
X-PUBLISHED-TTL:P3D
REFRESH-INTERVAL:P3D
CALSCALE:GREGORIAN
BEGIN:VEVENT
DTSTART:20190319T133000Z
DTEND:20190319T153000Z
X-MICROSOFT-CDO-ALLDAYEVENT:FALSE
SUMMARY:Chamber U Workshop - Overview of the Fair Labor Standards Act
DESCRIPTION:On April 3\, 2018\, the Wage and Hour Division (WHD) of the United States Department of Labor (DOL) announced a new nationwide pilot program. The Payroll Audit Independent Determination (PAID) program has facilitated resolution of potential overtime and minimum wage violations under the Fair Labor Standards Act (FLSA). This program allows for preliminary audits of any FLSA violations\, eliminates any liquidated damages (doubling) and attorney's fees. It requires that a release is signed by the employees to prevent future private claims.  Chamber members will have the unique opportunity to hear directly from a DOL representative.   A representative from the DOL will co-present with one of our members (Allison Williams of Littler Mendelson\, P.C.) on the DOL's PAID Program. The presenters will discuss the general background of the FLSA and the benefits and risks of participating in the PAID Program.
X-ALT-DESC;FMTTYPE=text/html:<span style="font-size:14px\;">On April 3\, 2018\, the Wage and Hour Division (WHD) of the United States Department of Labor (DOL) announced a new nationwide pilot program. The Payroll Audit Independent Determination (PAID) program has facilitated resolution of potential overtime and minimum wage violations under the Fair Labor Standards Act (FLSA). This program allows for preliminary audits of any FLSA violations\, eliminates any liquidated damages (doubling) and attorney&rsquo\;s fees. It requires that a release is signed by the employees to prevent future private claims. &nbsp\;Chamber members will have the unique opportunity to hear directly from a DOL representative.&nbsp\; &nbsp\;A representative from the DOL will co-present with one of our members (Allison Williams of Littler Mendelson\, P.C.) on the DOL&rsquo\;s PAID Program. The presenters will discuss the general background of the FLSA and the benefits and risks of participating in the PAID Program.&nbsp\;<br />\n&nbsp\;</span>
LOCATION:Texas City - La Marque Chamber of Commerce 9702 E.F. Lowry Expressway Texas City\, Texas 77591
UID:e.2983.3622
SEQUENCE:3
DTSTAMP:20260423T155608Z
URL:https://business.tclmchamber.com/events/details/chamber-u-workshop-overview-of-the-fair-labor-standards-act-3622
END:VEVENT

END:VCALENDAR
