BEGIN:VCALENDAR
VERSION:2.0
PRODID:-//ChamberMaster//Event Calendar 2.0//EN
METHOD:PUBLISH
X-PUBLISHED-TTL:P3D
REFRESH-INTERVAL:P3D
CALSCALE:GREGORIAN
BEGIN:VEVENT
DTSTART:20181107T150000Z
DTEND:20181107T170000Z
X-MICROSOFT-CDO-ALLDAYEVENT:FALSE
SUMMARY:Chamber U Workshop - Grow Your Business Online
DESCRIPTION:Grow Your Business Online presented by Doug Mansfield\, Mansfield Marketing.  This workshop is designed for small business owners and for managers tasked to manage marketing for small and medium sized businesses.  In this workshop you will learn the tools and techniques that successful marketing professionals use that are also available to you as a small business owner.  You'll hear about the basics of website design and management as well as how to get free business listings and paid advertising solutions.  Social marketing and modern search engine optimization techniques will also be discussed.  You'll leave with a better understanding of which options and features are right for your business
X-ALT-DESC;FMTTYPE=text/html:Grow Your Business Online presented by Doug Mansfield\, Mansfield Marketing.&nbsp\; This workshop is designed for small business owners and for managers tasked to manage marketing for small and medium sized businesses.&nbsp\; In this workshop you will learn the tools and techniques that successful marketing professionals use that are also available to you as a small business owner.&nbsp\; You&#39\;ll hear about the basics of website design and management as well as how to get free business listings and paid advertising solutions.&nbsp\; Social marketing and modern search engine optimization techniques will also be discussed.&nbsp\; You&#39\;ll leave with a better understanding of which options and features are right for your business
LOCATION:Showboat Pavilion 916 6th Street N. Texas City\, Texas
UID:e.2983.3538
SEQUENCE:3
DTSTAMP:20260423T220218Z
URL:https://business.tclmchamber.com/events/details/chamber-u-workshop-grow-your-business-online-3538
END:VEVENT

END:VCALENDAR
