BEGIN:VCALENDAR
VERSION:2.0
PRODID:-//ChamberMaster//Event Calendar 2.0//EN
METHOD:PUBLISH
X-PUBLISHED-TTL:P3D
REFRESH-INTERVAL:P3D
CALSCALE:GREGORIAN
BEGIN:VEVENT
DTSTART:20200818T163000Z
DTEND:20200818T180000Z
X-MICROSOFT-CDO-ALLDAYEVENT:FALSE
SUMMARY:Chamber U Workshop - Digital Marketing
DESCRIPTION:Hear from experts in all of the fields of digital marketing and learn how to elevate your business profile online. This is a four part series featuring the following topics:\n\n	August 18th - Live with Lidia Presents: Creating a Digital Storefront\n	September 22nd - Jasmin Perla Presents: Tips and Tricks for Facebook and Instagram\n	October 20th - Sandy Adams Presents: LinkedIn 101\n	November 10th - Get Social Presents: Branding and Website Building\n\nThere will be limited in person seating or you can join virtually
X-ALT-DESC;FMTTYPE=text/html:Hear from experts in all of the fields of digital marketing and learn how to elevate your business profile online. This is a four part series featuring the following topics:\n<ul>\n	<li>August 18th - Live with Lidia Presents: Creating a Digital Storefront</li>\n	<li>September 22nd - Jasmin Perla Presents: Tips and Tricks for Facebook and Instagram</li>\n	<li>October 20th - Sandy Adams Presents: LinkedIn 101</li>\n	<li>November 10th - Get Social Presents: Branding and Website Building</li>\n</ul>\nThere will be limited in person seating or you can join virtually
LOCATION:In person: Texas City-La Marque Chamber of Commerce 9702 E.F. Lowry Expressway Texas City\, Texas 77591 Or virtually through Zoom
UID:e.2983.3989
SEQUENCE:3
DTSTAMP:20260422T151856Z
URL:https://business.tclmchamber.com/events/details/chamber-u-workshop-digital-marketing-3989
END:VEVENT

END:VCALENDAR
