BEGIN:VCALENDAR
VERSION:2.0
PRODID:-//ChamberMaster//Event Calendar 2.0//EN
METHOD:PUBLISH
X-PUBLISHED-TTL:P3D
REFRESH-INTERVAL:P3D
CALSCALE:GREGORIAN
BEGIN:VEVENT
DTSTART:20180517T130000Z
DTEND:20180517T150000Z
X-MICROSOFT-CDO-ALLDAYEVENT:FALSE
SUMMARY:Chamber U Workshop - Customer Service
DESCRIPTION:Presenter - Amy Reid \n\n"Customer Service"\n\nIncludes telephone skills\, creating loyal customers & complaint resolutions\, branding your business.
X-ALT-DESC;FMTTYPE=text/html:Presenter - Amy Reid&nbsp\;<br />\n&quot\;Customer Service&quot\;<br />\nIncludes telephone skills\, creating loyal customers &amp\; complaint resolutions\, branding your business.
LOCATION:Showboat Pavilion 916 6th Street Texas City\, TX 77590
UID:e.2983.3534
SEQUENCE:3
DTSTAMP:20260424T043852Z
URL:https://business.tclmchamber.com/events/details/chamber-u-workshop-customer-service-3534
END:VEVENT

END:VCALENDAR
