BEGIN:VCALENDAR
VERSION:2.0
PRODID:-//ChamberMaster//Event Calendar 2.0//EN
METHOD:PUBLISH
X-PUBLISHED-TTL:P3D
REFRESH-INTERVAL:P3D
CALSCALE:GREGORIAN
BEGIN:VEVENT
DTSTART:20180829T133000Z
DTEND:20180829T153000Z
X-MICROSOFT-CDO-ALLDAYEVENT:FALSE
SUMMARY:Chamber U - Inside-Out Communication 2018
DESCRIPTION:etc Strategies presents "Inside-Out Communications"\n\nyou will learn how to produce\, understand\, manage and coordinate all mediums of communication\n\nMore meaningful social interactions\n\nCommunication hacks\n\nMore effectively produce techniques that are many times forgotten\n\nCommunite internally and externally
X-ALT-DESC;FMTTYPE=text/html:etc Strategies presents &quot\;Inside-Out Communications&quot\;<br />\nyou will learn how to produce\, understand\, manage and coordinate all mediums of communication<br />\nMore meaningful social interactions<br />\nCommunication hacks<br />\nMore effectively produce techniques that are many times forgotten<br />\nCommunite internally and externally
LOCATION:Texas City-La Marque Chamber of Commerce 9702 E.F. Lowry Expressway Texas City\, Texas 77591
UID:e.2983.3536
SEQUENCE:3
DTSTAMP:20260424T004950Z
URL:https://business.tclmchamber.com/events/details/chamber-u-inside-out-communication-2018-3536
END:VEVENT

END:VCALENDAR
