BEGIN:VCALENDAR
VERSION:2.0
PRODID:-//ChamberMaster//Event Calendar 2.0//EN
METHOD:PUBLISH
X-PUBLISHED-TTL:P3D
REFRESH-INTERVAL:P3D
CALSCALE:GREGORIAN
BEGIN:VEVENT
DTSTART:20180320T133000Z
DTEND:20180320T150000Z
X-MICROSOFT-CDO-ALLDAYEVENT:FALSE
SUMMARY:Chamber U - Dex Media 2018
DESCRIPTION:How to Make Your Business "Thryv" Online with Guest Speaker Amber Reitz\, Business Development Coordinator for Dex-yp\n\n Our Google specialist will review the following topics:\n\n           How incorrect business listings can keep your company from being recognized by Google.\n\n          Why it is even more critical now that your website be SEO and mobile-friendly.\n\n          Why a business that ranks 3rd on Google could be paying more in Adwords than a business that is ranked #1.\n\n          Why today business owners must engage with their customers through email marketing and Social Media.
X-ALT-DESC;FMTTYPE=text/html:How to Make Your Business &quot\;Thryv&quot\; Online with Guest Speaker Amber Reitz\, Business Development Coordinator for Dex-yp<br />\n&#8203\;Our Google specialist will review the following topics:<br />\n&nbsp\;<span style="font-family:symbol\;"><span style="font-size:10.0pt\;">&middot\;</span></span>&nbsp\;&nbsp\;&nbsp\;&nbsp\;&nbsp\;&nbsp\;&nbsp\;&nbsp\; How incorrect business listings can keep your company from being recognized by Google.<br />\n<span style="font-family:symbol\;"><span style="font-size:10.0pt\;">&middot\;</span></span>&nbsp\;&nbsp\;&nbsp\;&nbsp\;&nbsp\;&nbsp\;&nbsp\;&nbsp\; Why it is even more critical now that your website be SEO and mobile-friendly.<br />\n<span style="font-family:symbol\;"><span style="font-size:10.0pt\;">&middot\;</span></span>&nbsp\;&nbsp\;&nbsp\;&nbsp\;&nbsp\;&nbsp\;&nbsp\;&nbsp\; Why a business that ranks 3<sup>rd</sup> on Google could be paying more in Adwords than a business that is ranked #1.<br />\n<span style="font-family:symbol\;"><span style="font-size:10.0pt\;">&middot\;</span></span>&nbsp\;&nbsp\;&nbsp\;&nbsp\;&nbsp\;&nbsp\;&nbsp\;&nbsp\; Why today business owners must engage with their customers through email marketing and Social Media.<br />\n&nbsp\;
LOCATION:Chamber Office 9702 Emmett F Lowry Expressway Texas City\, TX 77591
UID:e.2983.3531
SEQUENCE:3
DTSTAMP:20260424T071221Z
URL:https://business.tclmchamber.com/events/details/chamber-u-dex-media-2018-3531
END:VEVENT

END:VCALENDAR
