BEGIN:VCALENDAR
VERSION:2.0
PRODID:-//ChamberMaster//Event Calendar 2.0//EN
METHOD:PUBLISH
X-PUBLISHED-TTL:P3D
REFRESH-INTERVAL:P3D
CALSCALE:GREGORIAN
BEGIN:VEVENT
DTSTART;VALUE=DATE:20210929
DTEND;VALUE=DATE:20210930
TRANSP:TRANSPARENT
X-MICROSOFT-CDO-ALLDAYEVENT:TRUE
SUMMARY:Chamber Golf Classic 2021
DESCRIPTION:This two-day event hosts over 500 golfers and two dozen hospitality tents to create an amazing networking and social atmosphere. This is the Chamber's largest fundraiser and proceeds enable the Chamber to continue its mission of economic development and community betterment.  \n\n\n\nMeet\, greet and socialize with Chamber members\, industrial plant managers\, business associates\, customers\, clients and guests...all in a casual\, relaxed setting. This is one of the region's "can't miss" events!\n\n\n\nFlights fill up quickly in this tournament! It is renowned as the biggest and best golf tournament in Galveston County.\n\n\n\nGolf Classic Sponsorship Opportunities\n\n \n\nChampion Level - $15\,000+ (Sold Out)\n\nTour Sponsor - $7\,500 ? includes 1 team\n\nMaster Sponsor - $5\,000 ? includes 1 Team\n\nAce Sponsor - $2\,500\n\nEagle Sponsor - $1\,500\n\nBirdie Sponsor - $1\,000\n\nHospitality Tent - $1\,800 \n\nDrink Cart Sponsor - $1\,800 \n\n\n\nHOLE SIGN Sponsor $175\n\nPAVILION BANNER Sponsor $500\n\n\n\nAs a sponsor\, you have the first pick of flights. Sponsors receive great exposure! \n\nPlease contact us soon as space is limited.
X-ALT-DESC;FMTTYPE=text/html:<p><span style="font-size:14px\;"><span background-color:="" font-size:="" segoe="" style="color: rgb(65\, 65\, 65)\; font-family: ">This two-day event hosts over 500 golfers and two dozen hospitality tents to create an amazing networking and social atmosphere. This is the Chamber&#39\;s largest fundraiser and proceeds enable the Chamber to continue its mission of economic development and community betterment.&nbsp\;&nbsp\;</span><br />\n<br />\n<span background-color:="" font-size:="" style="color: rgb(65\, 65\, 65)\; font-family: sans-serif\, Arial\, Verdana\, " trebuchet="">Meet\, greet and socialize with Chamber members\, industrial plant managers\, business associates\, customers\, clients and guests...all in a casual\, relaxed setting. This is one of the region&#39\;s &quot\;can&#39\;t miss&quot\; events!</span><br />\n<br />\n<span background-color:="" font-size:="" segoe="" style="color: rgb(65\, 65\, 65)\; font-family: ">Flights fill up quickly in this tournament! It is renowned as the <em>biggest </em>and <em>best </em>golf tournament in Galveston County.</span></span><br />\n<br />\n<span style="font-size:16px\;"><strong><span style="color:#403F42\;"><span style="font-family:arial\,sans-serif\;">Golf Classic&nbsp\;</span></span></strong><strong><span style="color:#403F42\;"><span style="font-family:arial\,sans-serif\;">Sponsorship Opportunities</span></span></strong></span><br />\n&nbsp\;<br />\n<strong><span style="color:#36495F\;"><span style="font-family:arial\,sans-serif\;"><span style="font-size:10.5pt\;">Champion Level </span></span></span></strong><span style="color:#36495F\;"><span style="font-family:arial\,sans-serif\;"><span style="font-size:10.5pt\;">- $15\,000+ <em>(Sold Out)</em></span></span></span><br />\n<strong><span style="color:#36495F\;"><span style="font-family:arial\,sans-serif\;"><span style="font-size:10.5pt\;">Tour Sponsor</span></span></span></strong><span style="color:#36495F\;"><span style="font-family:arial\,sans-serif\;"><span style="font-size:10.5pt\;">&nbsp\;- $7\,500 ? includes 1 team</span></span></span><br />\n<strong><span style="color:#36495F\;"><span style="font-family:arial\,sans-serif\;"><span style="font-size:10.5pt\;">Master Sponsor</span></span></span></strong><span style="color:#36495F\;"><span style="font-family:arial\,sans-serif\;"><span style="font-size:10.5pt\;">&nbsp\;- $5\,000 ? includes 1 Team</span></span></span><br />\n<strong><span style="color:#36495F\;"><span style="font-family:arial\,sans-serif\;"><span style="font-size:10.5pt\;">Ace Sponsor</span></span></span></strong><span style="color:#36495F\;"><span style="font-family:arial\,sans-serif\;"><span style="font-size:10.5pt\;">&nbsp\;- $2\,500</span></span></span><br />\n<strong><span style="color:#36495F\;"><span style="font-family:arial\,sans-serif\;"><span style="font-size:10.5pt\;">Eagle Sponsor</span></span></span></strong><span style="color:#36495F\;"><span style="font-family:arial\,sans-serif\;"><span style="font-size:10.5pt\;">&nbsp\;- $1\,500</span></span></span><br />\n<strong><span style="color:#36495F\;"><span style="font-family:arial\,sans-serif\;"><span style="font-size:10.5pt\;">Birdie Sponsor</span></span></span></strong><span style="color:#36495F\;"><span style="font-family:arial\,sans-serif\;"><span style="font-size:10.5pt\;">&nbsp\;- $1\,000</span></span></span><br />\n<strong><span style="color:#36495F\;"><span style="font-family:arial\,sans-serif\;"><span style="font-size:10.5pt\;">Hospitality Tent</span></span></span></strong><span style="color:#36495F\;"><span style="font-family:arial\,sans-serif\;"><span style="font-size:10.5pt\;">&nbsp\;- $1\,800&nbsp\;</span></span></span><br />\n<strong><span style="color:#36495F\;"><span style="font-family:arial\,sans-serif\;"><span style="font-size:10.5pt\;">Drink Cart Sponsor&nbsp\;</span></span></span></strong><span style="color:#36495F\;"><span style="font-family:arial\,sans-serif\;"><span style="font-size:10.5pt\;">- $1\,800&nbsp\;</span></span></span><br />\n<br />\n<strong>HOLE SIGN Sponsor</strong> $175<br />\n<strong>PAVILION BANNER</strong> Sponsor $500<br />\n<br />\n<span style="color:#36495F\;"><span style="font-family:arial\,sans-serif\;"><span style="font-size:10.5pt\;">As a sponsor\, you have the first pick of flights. Sponsors receive great exposure! </span></span></span><br />\n<span style="color:#36495F\;"><span style="font-family:arial\,sans-serif\;"><span style="font-size:10.5pt\;">Please contact us soon as space is limited.</span></span></span></p>\n
LOCATION:Bayou Golf Course 2800 Ted Dudley Dr. Texas City\, Texas 77591
UID:e.2983.4044
SEQUENCE:3
DTSTAMP:20260421T220115Z
URL:https://business.tclmchamber.com/events/details/chamber-golf-classic-2021-4044
END:VEVENT

END:VCALENDAR
