BEGIN:VCALENDAR
VERSION:2.0
PRODID:-//ChamberMaster//Event Calendar 2.0//EN
METHOD:PUBLISH
X-PUBLISHED-TTL:P3D
REFRESH-INTERVAL:P3D
CALSCALE:GREGORIAN
BEGIN:VEVENT
DTSTART:20220315T160000Z
DTEND:20220315T170000Z
X-MICROSOFT-CDO-ALLDAYEVENT:FALSE
SUMMARY:Business of the Month Presentation: Dental Cosmetic Center-Bay Area
DESCRIPTION:
X-ALT-DESC;FMTTYPE=text/html:
LOCATION:1708 Amburn Rd\, Suite A Texas City\, TX 77591
UID:e.2983.4216
SEQUENCE:3
DTSTAMP:20260421T140232Z
URL:https://business.tclmchamber.com/events/details/business-of-the-month-presentation-dental-cosmetic-center-bay-area-4216
END:VEVENT

END:VCALENDAR
