BEGIN:VCALENDAR
VERSION:2.0
PRODID:-//ChamberMaster//Event Calendar 2.0//EN
METHOD:PUBLISH
X-PUBLISHED-TTL:P3D
REFRESH-INTERVAL:P3D
CALSCALE:GREGORIAN
BEGIN:VEVENT
DTSTART:20180912T163000Z
DTEND:20180912T180000Z
X-MICROSOFT-CDO-ALLDAYEVENT:FALSE
SUMMARY:Business Luncheon - Education 2018
DESCRIPTION:State of Education Business Luncheon
X-ALT-DESC;FMTTYPE=text/html:State of Education Business Luncheon
LOCATION:Doyle Convention Center 2010 5th Avenue N. Texas City\, Texas 77590
UID:e.2983.3396
SEQUENCE:3
DTSTAMP:20260423T233327Z
URL:https://business.tclmchamber.com/events/details/business-luncheon-education-2018-3396
END:VEVENT

END:VCALENDAR
