BEGIN:VCALENDAR
VERSION:2.0
PRODID:-//ChamberMaster//Event Calendar 2.0//EN
METHOD:PUBLISH
X-PUBLISHED-TTL:P3D
REFRESH-INTERVAL:P3D
CALSCALE:GREGORIAN
BEGIN:VEVENT
DTSTART;VALUE=DATE:20211016
DTEND;VALUE=DATE:20211017
TRANSP:TRANSPARENT
X-MICROSOFT-CDO-ALLDAYEVENT:TRUE
SUMMARY:Bayou Fest in La Marque 2021
DESCRIPTION:SATURDAY\, OCTOBER 16TH\n\n\n\nBayou Fest in La Marque will be held on Saturday\, October 16\, 2021 from 9 a.m. to 10 p.m. at Highland Bayou Park. From live music to kids activities to fireworks\, Bayou Fest offers fun for all ages. Admission and parking are free!\n\n\n\nHere is a run-down of all the major activities at Bayou Fest in La Marque:\n\n\n\nBAYOU FEST BBQ COOKOFF\n\nCompete with the best of the best as part of the Galveston County Triple Crown! On Friday\, October 15\, 2021\, the BBQ Cook-Off ramps up as teams compete for $10\,000 in prize money. Rules and reservation lists are available by contacting Texas City   La Marque Chamber at 409-935-1408. The Bayou Fest Cook-Off features 100 BBQ spots with easy access\, stabilized ground\, water and power hookups.\n\n\n\n"COWBOY" JONES CHILDREN'S FISHING TOURNAMENT\n\nJoin Rusty Hook Fishing Club for the annual kids' fishing tournament! The first 200 children 12 years old and younger to register will receive a free t-shirt and lunch. Participants must provide a rod and rod and reel\, but Boyd's One Stop will provide the bait. Registration starts at 8:30 a.m. Kids can fish from 9:00 a.m. until 1:00 p.m. with parent or guardian supervision. For ten categories of fish\, kids can win a new rod and reel plus a new tackle box provided by La Marque Lions Club. Alex's A/C provides goody bags stuffed with goodies from several TCLM Chamber members.\n\n\n\nPUMPKIN PATCH & DECORATING CONTEST\n\nPick a pumpkin for FREE\, find a spot under the pavilion and get creative! La Marque Lions Club will present cash prizes for the first-\, second- and third-favorite pumpkins.  Age divisions are 5 years and under\, 6-10 years\, 11-14 years and 15-19 years. A parent must accompany children under the age of 12.\n\n\n\nMUTTON BUSTIN'\n\nDress up your little cowboys and cowgirls and meet us near the pavilion. Registration is at noon and the events start at 1:00 p.m. The fee is $20. There are two age categories\, 2-5 and 6-7. Belt buckles will be awarded for Grand Champion and Reserve Champion in each age group. The weight limit is 65 pounds and parents must sign a waiver at registration.\n\n\n\nFREE CONCERTS \n\nGrab your friends\, bring chairs and dance the night away at this free community concert!  Make sure to visit our food trucks and craft vendors between shows. La Marque Lions Club sells beer on site\, so no coolers\, please. Rock the night away with The Mighty Orq at 4:30\, Brown Sugar at 6:30 and Johnathan Tyler and the Northern Lights at 8:30.\n\n\n\nAMOCO FCU FIREWORKS SHOW \n\nStay until 10:00 p.m. to watch the spectacular AMOCO Federal Credit Union Fireworks Show.\n\n\n\nLa Marque Bayou Fest is presented by City of La Marque and the Texas City-La Marque Chamber of Commerce. For more information\, follow the Bayou Fest Facebook page\, visit lamarquebayoufest.com or call Colleen at 409-938-9255.\n\n\n\n#  #  #
X-ALT-DESC;FMTTYPE=text/html:<span font-size:="" segoe="" style="color: rgb(65\, 65\, 65)\; font-family: ">SATURDAY\, OCTOBER 16TH</span><br />\n<br />\n<span style="color:#002740\;"><span style="font-family:trebuchet ms\,sans-serif\;">Bayou Fest in La Marque will be held on Saturday\, October 16\, 2021 from 9 a.m. to 10 p.m. at Highland Bayou Park. From live music to kids activities to fireworks\, Bayou Fest offers fun for all ages. Admission and parking are free!</span></span><br />\n<br />\n<span style="color:#002740\;"><span style="font-family:trebuchet ms\,sans-serif\;">Here is a run-down of all the major activities at Bayou Fest in La Marque:</span></span><br />\n<br />\n<span style="color:#002740\;"><span style="font-family:trebuchet ms\,sans-serif\;">BAYOU FEST BBQ COOKOFF</span></span><br />\n<span style="color:black\;"><span style="font-family:trebuchet ms\,sans-serif\;">Compete with the best of the best as part of the Galveston County Triple Crown! On Friday\, October 15\, 2021\, the BBQ Cook-Off ramps up as teams compete for $10\,000 in prize money. Rules and reservation lists are available by contacting Texas City &ndash\; La Marque Chamber at 409-935-1408. The Bayou Fest Cook-Off features 100 BBQ spots with easy access\, stabilized ground\, water and power hookups.</span></span><br />\n<br />\n<span style="color:#002740\;"><span style="font-family:trebuchet ms\,sans-serif\;">&ldquo\;COWBOY&rdquo\; JONES CHILDREN&rsquo\;S FISHING TOURNAMENT</span></span><br />\n<span style="color:black\;"><span style="font-family:trebuchet ms\,sans-serif\;">Join Rusty Hook Fishing Club for the annual kids&rsquo\; fishing tournament! The first 200 children 12 years old and younger to register will receive a free t-shirt and lunch. Participants must provide a rod and rod and reel\, but Boyd&rsquo\;s One Stop will provide the bait. Registration starts at 8:30 a.m. Kids can fish from 9:00 a.m. until 1:00 p.m. with parent or guardian supervision. For ten categories of fish\, kids can win a new rod and reel plus a new tackle box provided by La Marque Lions Club. Alex&rsquo\;s A/C provides goody bags stuffed with goodies from several TCLM Chamber members.</span></span><br />\n<br />\n<span style="color:#002740\;"><span style="font-family:trebuchet ms\,sans-serif\;">PUMPKIN PATCH &amp\; DECORATING CONTEST</span></span><br />\n<span style="color:black\;"><span style="font-family:trebuchet ms\,sans-serif\;">Pick a pumpkin for FREE\, find a spot under the pavilion and get creative! La Marque Lions Club will present cash prizes for the first-\, second- and third-favorite pumpkins. &nbsp\;Age divisions are 5 years and under\, 6-10 years\, 11-14 years and 15-19 years. A parent must accompany children under the age of 12.</span></span><br />\n<br />\n<span style="color:#002740\;"><span style="font-family:trebuchet ms\,sans-serif\;">MUTTON BUSTIN&rsquo\;</span></span><br />\n<span style="color:black\;"><span style="font-family:trebuchet ms\,sans-serif\;">Dress up your little cowboys and cowgirls and meet us near the pavilion. Registration is at noon and the events start at 1:00 p.m. The fee is $20. There are two age categories\, 2-5 and 6-7. Belt buckles will be awarded for Grand Champion and Reserve Champion in each age group. The weight limit is 65 pounds and parents must sign a waiver at registration.</span></span><br />\n<br />\n<span style="color:#002740\;"><span style="font-family:trebuchet ms\,sans-serif\;">FREE CONCERTS&nbsp\;</span></span><br />\n<span style="color:black\;"><span style="font-family:trebuchet ms\,sans-serif\;">Grab your friends\, bring chairs and dance the night away at this free community concert! &nbsp\;Make sure to visit our food trucks and craft vendors between shows.<span style="border:none windowtext 1.0pt\;padding:0in\;background:white\;"> La Marque Lions Club sells beer on site\, so no coolers\, please. Rock the night away with The Mighty Orq at 4:30\, Brown Sugar at 6:30 and Johnathan Tyler and the Northern Lights at 8:30.</span></span></span><br />\n<br />\n<span style="color:#002740\;"><span style="font-family:trebuchet ms\,sans-serif\;">AMOCO FCU FIREWORKS SHOW&nbsp\;</span></span><br />\n<span style="color:black\;"><span style="font-family:trebuchet ms\,sans-serif\;">Stay until 10:00 p.m. to watch the spectacular AMOCO Federal Credit Union Fireworks Show.</span></span><br />\n<br />\n<span style="color:black\;"><span style="font-family:trebuchet ms\,sans-serif\;">La Marque Bayou Fest is presented by City of La Marque and the Texas City-La Marque Chamber of Commerce. For more information\, follow the Bayou Fest Facebook page\, visit lamarquebayoufest.com or call Colleen at 409-938-9255.<br />\n<br />\n#&nbsp\; #&nbsp\; #</span></span><br />\n<br />\n<br />\n&nbsp\;
LOCATION:Mac McGaffey Highland Bayou Park 1919 Getty Road La Marque\, TX 77568
UID:e.2983.4046
SEQUENCE:3
DTSTAMP:20260421T220346Z
URL:https://business.tclmchamber.com/events/details/bayou-fest-in-la-marque-2021-4046
END:VEVENT

END:VCALENDAR
