BEGIN:VCALENDAR
VERSION:2.0
PRODID:-//ChamberMaster//Event Calendar 2.0//EN
METHOD:PUBLISH
X-PUBLISHED-TTL:P3D
REFRESH-INTERVAL:P3D
CALSCALE:GREGORIAN
BEGIN:VEVENT
DTSTART;VALUE=DATE:20181020
DTEND;VALUE=DATE:20181021
TRANSP:TRANSPARENT
X-MICROSOFT-CDO-ALLDAYEVENT:TRUE
SUMMARY:Bayou Fest 2018
DESCRIPTION:Come enjoy this weekend music and family event that hosts Musical  Entertainment\, children's fishing tournament\, arts and crafts\, children's activities\, barbeque cookoff\, and more.   This is an event that serves not only our communities but has grown into a tourism boost.\n\nAdmission and parking are both free to the public.
X-ALT-DESC;FMTTYPE=text/html:<p style="margin: 0px 0px 1em\; color: rgb(65\, 65\, 65)\; font-family: &quot\;Segoe UI&quot\;\, Arial\, Helvetica\, sans-serif\; font-size: 16px\; background-color: rgb(255\, 255\, 255)\;">Come enjoy this weekend music and family event that hosts Musical&nbsp\; Entertainment\,&nbsp\;children&rsquo\;s fishing tournament\, arts and crafts\, children&rsquo\;s activities\, barbeque cookoff\, and more.&nbsp\;&nbsp\; This is an event that serves not only our communities but has grown into a tourism boost.</p>\n\n<p style="margin: 0px 0px 1em\; color: rgb(65\, 65\, 65)\; font-family: &quot\;Segoe UI&quot\;\, Arial\, Helvetica\, sans-serif\; font-size: 16px\; background-color: rgb(255\, 255\, 255)\;">Admission and parking are both free to the public.</p>\n
LOCATION:Highland Bayou Park IH 45 South at Exit 10 1919 Getty Road La Marque\, Texas 77568
UID:e.2983.3361
SEQUENCE:3
DTSTAMP:20260423T215939Z
URL:https://business.tclmchamber.com/events/details/bayou-fest-2018-3361
END:VEVENT

END:VCALENDAR
