BEGIN:VCALENDAR
VERSION:2.0
PRODID:-//ChamberMaster//Event Calendar 2.0//EN
METHOD:PUBLISH
X-PUBLISHED-TTL:P3D
REFRESH-INTERVAL:P3D
CALSCALE:GREGORIAN
BEGIN:VEVENT
DTSTART:20211010T000000Z
DTEND:20211010T030000Z
X-MICROSOFT-CDO-ALLDAYEVENT:FALSE
SUMMARY:Bay Area Turning Point's 30th Anniversary Gala
DESCRIPTION:Bay Area Turning Point celebrates 30 years of service in the communty with dinner\, drinks\, and entertainment. \n\n \n\nSponsorship Levels:\n\nPresenting Sponsor - $10\,000 (Includes private VIP Happy Hour in Penthouse with guests\, Honorees\, and BATP Board!)\n\nDiamond - $5000 (will receive wine service at their table)\n\nPearl - $3500\n\nGold - $2500\n\nSilver - $1500\n\nBronze - $1000\n\nSapphire - $750\n\nIndividual Ticket - $150\n\nSince 1991\, Bay Area Turning Point has been committed to providing recovery services to survivors of domestic and sexual violence.
X-ALT-DESC;FMTTYPE=text/html:<div><span dir="auto" style="color:var(--primary-text)\; font-family:segoe ui historic\,segoe ui\,helvetica\,arial\,sans-serif\; font-size:0.9375rem">Bay Area Turning Point celebrates 30 years of service in the communty with dinner\, drinks\, and entertainment.&nbsp\;</span><br />\n&nbsp\;</div>\n\n<div><span dir="auto" style="color:var(--primary-text)\; font-family:segoe ui historic\,segoe ui\,helvetica\,arial\,sans-serif\; font-size:0.9375rem">Sponsorship Levels:<br />\nPresenting Sponsor - $10\,000 (Includes private VIP Happy Hour in Penthouse with guests\, Honorees\, and BATP Board!)</span></div>\n\n<div><span dir="auto" style="color:var(--primary-text)\; font-family:segoe ui historic\,segoe ui\,helvetica\,arial\,sans-serif\; font-size:0.9375rem">Diamond - $5000 (will receive wine service at their table)</span></div>\n\n<div><span dir="auto" style="color:var(--primary-text)\; font-family:segoe ui historic\,segoe ui\,helvetica\,arial\,sans-serif\; font-size:0.9375rem">Pearl - $3500<br />\nGold - $2500<br />\nSilver - $1500<br />\nBronze - $1000<br />\nSapphire - $750<br />\nIndividual Ticket - $150</span></div>\n\n<div><span dir="auto" style="color:var(--primary-text)\; font-family:segoe ui historic\,segoe ui\,helvetica\,arial\,sans-serif\; font-size:0.9375rem">Since 1991\, Bay Area Turning Point has been committed to providing recovery services to survivors of domestic and sexual violence.&nbsp\;</span>\n\n<div style="text-align:inherit">&nbsp\;</div>\n</div>\n\n<div>\n<div style="text-align:inherit">&nbsp\;</div>\n</div>\n
LOCATION:South Shore Harbour Resort & Conference Center 2500 South Shore Blvd League City\, TX 77573
UID:e.2983.4096
SEQUENCE:3
DTSTAMP:20260421T204611Z
URL:https://business.tclmchamber.com/events/details/bay-area-turning-point-s-30th-anniversary-gala-4096
END:VEVENT

END:VCALENDAR
