BEGIN:VCALENDAR
VERSION:2.0
PRODID:-//ChamberMaster//Event Calendar 2.0//EN
METHOD:PUBLISH
X-PUBLISHED-TTL:P3D
REFRESH-INTERVAL:P3D
CALSCALE:GREGORIAN
BEGIN:VEVENT
DTSTART:20190201T003000Z
DTEND:20190201T040000Z
X-MICROSOFT-CDO-ALLDAYEVENT:FALSE
SUMMARY:Annual Banquet 50th Anniversary of the TCLM Chamber
DESCRIPTION:Join us as we celebrate our 50th Anniversary at the Annual Membership Banquet and Reception on January 31st at the Charles T. Doyle Convention Center. It's a time to reflect on the past year and recognize outstanding Chamber members and volunteers. Outstanding Citizen of the Year\, Business of the Year\, Community Service Award\, Ambassadors of the Year\, Chairman's Award and more. It's also the time to introduce our incoming Board of Directors and thank our outgoing Board.   It is a night to thank members for their patronage\, give out prestigious awards\, and celebrate the chamber community.
X-ALT-DESC;FMTTYPE=text/html:<span style="font-family: &quot\;Segoe UI&quot\;\;">Join us as we celebrate our 50th Anniversary at the Annual Membership Banquet and Reception on January 31st at the Charles T. Doyle Convention Center. It&rsquo\;s a time to reflect on the past year and recognize outstanding Chamber members and volunteers. Outstanding Citizen of the Year\, Business of the Year\, Community Service Award\, Ambassadors of the Year\, Chairman&rsquo\;s Award and more. It&rsquo\;s also the time to introduce our incoming Board of Directors and thank our outgoing Board.&nbsp\; &nbsp\;It is a night to thank members for their patronage\, give out prestigious awards\, and celebrate the chamber community.</span>
LOCATION:Charles T. Doyle Convention Center Texas Heroes Room 2010 5th Avenue N. Texas City\, Texas
UID:e.2983.3548
SEQUENCE:3
DTSTAMP:20260423T191239Z
URL:https://business.tclmchamber.com/events/details/annual-banquet-50th-anniversary-of-the-tclm-chamber-3548
END:VEVENT

END:VCALENDAR
