BEGIN:VCALENDAR
VERSION:2.0
PRODID:-//ChamberMaster//Event Calendar 2.0//EN
METHOD:PUBLISH
X-PUBLISHED-TTL:P3D
REFRESH-INTERVAL:P3D
CALSCALE:GREGORIAN
BEGIN:VEVENT
DTSTART:20210923T230000Z
DTEND:20210924T020000Z
X-MICROSOFT-CDO-ALLDAYEVENT:FALSE
SUMMARY:Anchor Point's Celebrating Hope 10 year Anniversary Gala
DESCRIPTION:Anchor Point's Celebrating Hope - 10 year Anniversary Gala announces Co-Chairs: Texas State Representative Dr. Greg Bonnen & Mrs. Kimberly Bonnen and Trevor & Christina Shakiba of Shakiba Capital.\n\n\n\nThe Anchor Point Family Network will host its annual Celebrating Hope Gala on Thursday\, September 23\, 2021 at the elegant South Shore Harbour Resort in League City.  This is the seventh year this annual event has sold out. The 2021 Gala is extra special for celebrating Anchor Point's beginning 10 years ago. Celebrating Hope's presenting sponsor is Shakiba Capital and its founders are also the 10th anniversary gala co-chairs\, Mr. & Mrs. Trevor Shakiba\, alongside its founding Event Chairs\, Texas State Rep. Dr. & Mrs. Greg Bonnen. With these two powerhouse couples this will prove to be another sold-out event and a 'who's who' of the Bay Area.  Anchor Point's founding CEO\, Debbie Simmons stated\, "We are thrilled beyond measure to celebrate Anchor Point's been championing children and giving families hope for ten years!"\n\n\n\nThe evening's festivities include keynote speaker\, author and humorist\, Mike Williams. Mike is the youngest born of five to an inner-city family. His oldest brother was killed at seventeen on the streets of Chicago and another brother was killed at seventeen in prison. His two sisters turned to alcohol and drugs\, a turn for which they have never fully recovered. At the age of twenty-seven\, he met his father for the first and last time. Mike's mother chose to place him in a new family with hopes that at least one of her children could have a chance at a future. Mike was adopted by a Christian couple (YFC volunteers) who had been praying for a child for over twelve years... and the fun was just about to begin.\n\n\n\nGala guests enjoy an elegant waterfront dining experience\, musical entertainment\, light-hearted games with jewelry and electronic prizes\, and live and silent auctions to benefit the children and families of Anchor Point.\n\n\n\nThe Anchor Point Family Network is available to help families thrive through their Obria Medical Clinic\, Hope Family Center\, Excellent Minds Academy and Hope House. Today's families face many challenges. From the moment of pregnancy through the teenage years and into adulthood\, these issues impact the family unit. Anchor Point comes alongside these families to tackle these challenges and to help families thrive. Anchor Point provides free and low-cost well-woman medical services\, pregnancy and parenting support services\, a maternity home\, as well as licensed therapy\, family camps\, education and recovery groups to struggling families in our community.\n\n\n\nTickets are now on sale and sponsorship opportunities are available. To support Anchor Point by becoming a table host\, corporate sponsor\, purchase individual tickets or to register for bidding in the online live silent auction please visit Anchor Point online at: celebrating-hope-gala
X-ALT-DESC;FMTTYPE=text/html:<strong><span style="font-size:12.0pt"><span style="font-family:arial\,helvetica\,sans-serif">Anchor Point&rsquo\;s Celebrating Hope - 10 year Anniversary Gala announces Co-Chairs: Texas State Representative Dr. Greg Bonnen &amp\; Mrs. Kimberly Bonnen and Trevor &amp\; Christina Shakiba of Shakiba Capital.</span></span></strong><br />\n<br />\n<font face="arial\, helvetica\, sans-serif"><span style="font-size:12px">The Anchor Point Family Network will host its annual Celebrating Hope Gala on Thursday\, September 23\, 2021&nbsp\;at the elegant South Shore Harbour Resort in League City.&nbsp\; This is the seventh year this annual event&nbsp\;</span></font><span style="font-family:arial\,helvetica\,sans-serif\; font-size:12px">has sold out. The 2021 Gala is extra special for</span><font face="arial\, helvetica\, sans-serif"><span style="font-size:12px">&nbsp\;celebrating Anchor Point&#39\;s&nbsp\;beginning 10 years ago. Celebrating Hope&#39\;s presenting sponsor is Shakiba Capital and its founders are also the 10th anniversary gala co-chairs\, Mr. &amp\; Mrs. Trevor Shakiba\, alongside its founding Event Chairs\, Texas State Rep. Dr. &amp\; Mrs. Greg Bonnen. With these two powerhouse couples this will prove to be another sold-out event and a &#39\;<em>who&rsquo\;s who&#39\;</em> of the Bay Area. &nbsp\;Anchor Point&rsquo\;s founding CEO\, Debbie Simmons stated\, &ldquo\;We are thrilled beyond measure to celebrate Anchor Point&#39\;s been championing children and giving families hope for ten years!&quot\;</span></font><br />\n<br />\n<font face="arial\, helvetica\, sans-serif"><span style="font-size:12px">The evening&rsquo\;s festivities include keynote speaker\, author and humorist\, Mike Williams. Mike is the youngest born of five to an inner-city family. His oldest brother was killed at seventeen on the streets of Chicago and another brother was killed at seventeen in prison. His two sisters turned to alcohol and drugs\, a turn for which they have never fully recovered. At the age of twenty-seven\, he met his father for the first and last time. Mike&#39\;s mother chose to place him in a new family with hopes that at least one of her children could have a chance at a future. Mike was adopted by a Christian couple (YFC volunteers) who had been praying for a child for over twelve years... and the fun was just about to begin.</span></font><br />\n<br />\n<font face="arial\, helvetica\, sans-serif"><span style="font-size:12px">Gala guests enjoy an elegant waterfront dining experience\, musical entertainment\, light-hearted games with jewelry and electronic prizes\, and live and silent auctions to benefit the children and families of Anchor Point.</span></font><br />\n<br />\n<font face="arial\, helvetica\, sans-serif"><span style="font-size:12px">The Anchor Point Family Network is available to help families thrive through their Obria Medical Clinic\, Hope Family Center\, Excellent Minds Academy and Hope House. Today&rsquo\;s families face many challenges. From the moment of pregnancy through the teenage years and into adulthood\, these issues impact the family unit. Anchor Point comes alongside these families to tackle these challenges and to help families thrive. Anchor Point provides free and low-cost well-woman medical services\, pregnancy and parenting support services\, a maternity home\, as well as licensed therapy\, family camps\, education and recovery groups to struggling families in our community.</span></font><br />\n<br />\n<font face="arial\, helvetica\, sans-serif"><span style="font-size:12px">Tickets are now on sale and sponsorship opportunities are available. To support Anchor Point by becoming a table host\, corporate sponsor\, purchase individual tickets or to register for bidding in the online live silent auction please visit Anchor Point online at:<a href="https://www.anchorpoint.us/celebrating-hope-gala/"> </a></span></font><a href="https://www.anchorpoint.us/celebrating-hope-gala/">celebrating-hope-gala</a>
LOCATION:South Shore Harbour Resort 2500 South Shore Blvd League City\, TX 77573
UID:e.2983.4095
SEQUENCE:3
DTSTAMP:20260421T220326Z
URL:https://business.tclmchamber.com/events/details/anchor-point-s-celebrating-hope-10-year-anniversary-gala-4095
END:VEVENT

END:VCALENDAR
